BEGIN:VCALENDAR
VERSION:2.0
PRODID:-//Ridgefield Conservatory of Dance - ECPv6.15.19//NONSGML v1.0//EN
CALSCALE:GREGORIAN
METHOD:PUBLISH
X-WR-CALNAME:Ridgefield Conservatory of Dance
X-ORIGINAL-URL:https://www.ridgefielddance.org
X-WR-CALDESC:Events for Ridgefield Conservatory of Dance
REFRESH-INTERVAL;VALUE=DURATION:PT1H
X-Robots-Tag:noindex
X-PUBLISHED-TTL:PT1H
BEGIN:VTIMEZONE
TZID:America/New_York
BEGIN:DAYLIGHT
TZOFFSETFROM:-0500
TZOFFSETTO:-0400
TZNAME:EDT
DTSTART:20250309T070000
END:DAYLIGHT
BEGIN:STANDARD
TZOFFSETFROM:-0400
TZOFFSETTO:-0500
TZNAME:EST
DTSTART:20251102T060000
END:STANDARD
BEGIN:DAYLIGHT
TZOFFSETFROM:-0500
TZOFFSETTO:-0400
TZNAME:EDT
DTSTART:20260308T070000
END:DAYLIGHT
BEGIN:STANDARD
TZOFFSETFROM:-0400
TZOFFSETTO:-0500
TZNAME:EST
DTSTART:20261101T060000
END:STANDARD
BEGIN:DAYLIGHT
TZOFFSETFROM:-0500
TZOFFSETTO:-0400
TZNAME:EDT
DTSTART:20270314T070000
END:DAYLIGHT
BEGIN:STANDARD
TZOFFSETFROM:-0400
TZOFFSETTO:-0500
TZNAME:EST
DTSTART:20271107T060000
END:STANDARD
END:VTIMEZONE
BEGIN:VEVENT
DTSTART;TZID=America/New_York:20260420T153000
DTEND;TZID=America/New_York:20260420T170000
DTSTAMP:20260420T015600
CREATED:20250627T164542Z
LAST-MODIFIED:20250825T205227Z
UID:10003729-1776699000-1776704400@www.ridgefielddance.org
SUMMARY:Monday Ballet VI
DESCRIPTION:
URL:https://www.ridgefielddance.org/class/monday-ballet-vi-2/2026-04-20/
LOCATION:Main Street Studios\, 440 Main Street (Route 35)\, Ridgefield\, CT\, 06877\, United States
CATEGORIES:Classes
END:VEVENT
BEGIN:VEVENT
DTSTART;TZID=America/New_York:20260420T160000
DTEND;TZID=America/New_York:20260420T163000
DTSTAMP:20260420T015600
CREATED:20250627T164542Z
LAST-MODIFIED:20250825T205148Z
UID:10003714-1776700800-1776702600@www.ridgefielddance.org
SUMMARY:Monday Dance for 2s & 3s Companion
DESCRIPTION:
URL:https://www.ridgefielddance.org/class/monday-dance-for-2s-3s-compantion-2/2026-04-20/
LOCATION:Main Street Studios\, 440 Main Street (Route 35)\, Ridgefield\, CT\, 06877\, United States
CATEGORIES:Classes
END:VEVENT
BEGIN:VEVENT
DTSTART;TZID=America/New_York:20260420T163000
DTEND;TZID=America/New_York:20260420T170000
DTSTAMP:20260420T015600
CREATED:20250627T175922Z
LAST-MODIFIED:20250825T204706Z
UID:10003594-1776702600-1776704400@www.ridgefielddance.org
SUMMARY:Monday Dance for 3s & 4s Independent
DESCRIPTION:
URL:https://www.ridgefielddance.org/class/monday-dance-for-3s-4s-independent-4/2026-04-20/
LOCATION:Main Street Studios\, 440 Main Street (Route 35)\, Ridgefield\, CT\, 06877\, United States
CATEGORIES:Classes
END:VEVENT
BEGIN:VEVENT
DTSTART;TZID=America/New_York:20260420T164500
DTEND;TZID=America/New_York:20260420T174500
DTSTAMP:20260420T015600
CREATED:20250627T164434Z
LAST-MODIFIED:20250825T205305Z
UID:10003774-1776703500-1776707100@www.ridgefielddance.org
SUMMARY:Monday Ballet I Foundational
DESCRIPTION:
URL:https://www.ridgefielddance.org/class/monday-ballet-i-foundational-3/2026-04-20/
LOCATION:Main Street Studios\, 440 Main Street (Route 35)\, Ridgefield\, CT\, 06877\, United States
CATEGORIES:Classes
END:VEVENT
BEGIN:VEVENT
DTSTART;TZID=America/New_York:20260420T170000
DTEND;TZID=America/New_York:20260420T174500
DTSTAMP:20260420T015600
CREATED:20250627T164542Z
LAST-MODIFIED:20250825T205107Z
UID:10003699-1776704400-1776707100@www.ridgefielddance.org
SUMMARY:Monday Broadway Babies (for K & 1st Grade)
DESCRIPTION:
URL:https://www.ridgefielddance.org/class/monday-broadway-babies-for-k-1st-grade-2/2026-04-20/
LOCATION:Main Street Studios\, 440 Main Street (Route 35)\, Ridgefield\, CT\, 06877\, United States
CATEGORIES:Classes
END:VEVENT
BEGIN:VEVENT
DTSTART;TZID=America/New_York:20260420T170000
DTEND;TZID=America/New_York:20260420T174500
DTSTAMP:20260420T015600
CREATED:20250627T164549Z
LAST-MODIFIED:20250825T204820Z
UID:10003639-1776704400-1776707100@www.ridgefielddance.org
SUMMARY:Monday Pointe VI
DESCRIPTION:
URL:https://www.ridgefielddance.org/class/monday-pointe-vi-2/2026-04-20/
LOCATION:Main Street Studios\, 440 Main Street (Route 35)\, Ridgefield\, CT\, 06877\, United States
CATEGORIES:Classes
END:VEVENT
BEGIN:VEVENT
DTSTART;TZID=America/New_York:20260420T174500
DTEND;TZID=America/New_York:20260420T184500
DTSTAMP:20260420T015600
CREATED:20250627T164542Z
LAST-MODIFIED:20250825T205021Z
UID:10004860-1776707100-1776710700@www.ridgefielddance.org
SUMMARY:Monday Modern III/IV
DESCRIPTION:
URL:https://www.ridgefielddance.org/class/monday-moder-n-iii-iv-2/2026-04-20/
LOCATION:Main Street Studios\, 440 Main Street (Route 35)\, Ridgefield\, CT\, 06877\, United States
CATEGORIES:Classes
END:VEVENT
BEGIN:VEVENT
DTSTART;TZID=America/New_York:20260420T174500
DTEND;TZID=America/New_York:20260420T184500
DTSTAMP:20260420T015600
CREATED:20250627T164548Z
LAST-MODIFIED:20250825T204906Z
UID:10003654-1776707100-1776710700@www.ridgefielddance.org
SUMMARY:Monday Modern V/VI
DESCRIPTION:
URL:https://www.ridgefielddance.org/class/monday-moder-n-v-vi-2/2026-04-20/
LOCATION:Main Street Studios\, 440 Main Street (Route 35)\, Ridgefield\, CT\, 06877\, United States
CATEGORIES:Classes
END:VEVENT
BEGIN:VEVENT
DTSTART;TZID=America/New_York:20260420T174500
DTEND;TZID=America/New_York:20260420T191500
DTSTAMP:20260420T015600
CREATED:20250627T164434Z
LAST-MODIFIED:20250825T205435Z
UID:10003759-1776707100-1776712500@www.ridgefielddance.org
SUMMARY:Monday Ballet IV
DESCRIPTION:
URL:https://www.ridgefielddance.org/class/monday-ballet-iv-5/2026-04-20/
LOCATION:Main Street Studios\, 440 Main Street (Route 35)\, Ridgefield\, CT\, 06877\, United States
CATEGORIES:Classes
END:VEVENT
BEGIN:VEVENT
DTSTART;TZID=America/New_York:20260420T184500
DTEND;TZID=America/New_York:20260420T194500
DTSTAMP:20260420T015600
CREATED:20250627T164434Z
LAST-MODIFIED:20250825T205400Z
UID:10003744-1776710700-1776714300@www.ridgefielddance.org
SUMMARY:Monday Ballet III
DESCRIPTION:
URL:https://www.ridgefielddance.org/class/monday-ballet-iii-5/2026-04-20/
LOCATION:Main Street Studios\, 440 Main Street (Route 35)\, Ridgefield\, CT\, 06877\, United States
CATEGORIES:Classes
END:VEVENT
BEGIN:VEVENT
DTSTART;TZID=America/New_York:20260420T191500
DTEND;TZID=America/New_York:20260420T204500
DTSTAMP:20260420T015600
CREATED:20250627T164542Z
LAST-MODIFIED:20250825T204940Z
UID:10003669-1776712500-1776717900@www.ridgefielddance.org
SUMMARY:Monday Ballet V
DESCRIPTION:
URL:https://www.ridgefielddance.org/class/monday-ballet-v-2/2026-04-20/
LOCATION:Main Street Studios\, 440 Main Street (Route 35)\, Ridgefield\, CT\, 06877\, United States
CATEGORIES:Classes
END:VEVENT
BEGIN:VEVENT
DTSTART;TZID=America/New_York:20260420T204500
DTEND;TZID=America/New_York:20260420T213000
DTSTAMP:20260420T015600
CREATED:20250627T164549Z
LAST-MODIFIED:20250825T204743Z
UID:10003609-1776717900-1776720600@www.ridgefielddance.org
SUMMARY:Monday Pointe V Beginner
DESCRIPTION:
URL:https://www.ridgefielddance.org/class/monday-pointe-v-beginner-2/2026-04-20/
LOCATION:Main Street Studios\, 440 Main Street (Route 35)\, Ridgefield\, CT\, 06877\, United States
CATEGORIES:Classes
END:VEVENT
END:VCALENDAR