BEGIN:VCALENDAR
VERSION:2.0
PRODID:-//Ridgefield Conservatory of Dance - ECPv6.15.19//NONSGML v1.0//EN
CALSCALE:GREGORIAN
METHOD:PUBLISH
X-WR-CALNAME:Ridgefield Conservatory of Dance
X-ORIGINAL-URL:https://www.ridgefielddance.org
X-WR-CALDESC:Events for Ridgefield Conservatory of Dance
REFRESH-INTERVAL;VALUE=DURATION:PT1H
X-Robots-Tag:noindex
X-PUBLISHED-TTL:PT1H
BEGIN:VTIMEZONE
TZID:America/New_York
BEGIN:DAYLIGHT
TZOFFSETFROM:-0500
TZOFFSETTO:-0400
TZNAME:EDT
DTSTART:20250309T070000
END:DAYLIGHT
BEGIN:STANDARD
TZOFFSETFROM:-0400
TZOFFSETTO:-0500
TZNAME:EST
DTSTART:20251102T060000
END:STANDARD
BEGIN:DAYLIGHT
TZOFFSETFROM:-0500
TZOFFSETTO:-0400
TZNAME:EDT
DTSTART:20260308T070000
END:DAYLIGHT
BEGIN:STANDARD
TZOFFSETFROM:-0400
TZOFFSETTO:-0500
TZNAME:EST
DTSTART:20261101T060000
END:STANDARD
BEGIN:DAYLIGHT
TZOFFSETFROM:-0500
TZOFFSETTO:-0400
TZNAME:EDT
DTSTART:20270314T070000
END:DAYLIGHT
BEGIN:STANDARD
TZOFFSETFROM:-0400
TZOFFSETTO:-0500
TZNAME:EST
DTSTART:20271107T060000
END:STANDARD
END:VTIMEZONE
BEGIN:VEVENT
DTSTART;TZID=America/New_York:20260422T130000
DTEND;TZID=America/New_York:20260422T140000
DTSTAMP:20260422T060634
CREATED:20260121T152425Z
LAST-MODIFIED:20260121T152425Z
UID:10005217-1776862800-1776866400@www.ridgefielddance.org
SUMMARY:Hybrid Italian Dance
DESCRIPTION:
URL:https://www.ridgefielddance.org/class/wednesday-jazz-v-2-2/2026-04-22/
LOCATION:Main Street Studios\, 440 Main Street (Route 35)\, Ridgefield\, CT\, 06877\, United States
CATEGORIES:Classes
END:VEVENT
BEGIN:VEVENT
DTSTART;TZID=America/New_York:20260422T160000
DTEND;TZID=America/New_York:20260422T173000
DTSTAMP:20260422T060634
CREATED:20250627T162702Z
LAST-MODIFIED:20250701T183454Z
UID:10004222-1776873600-1776879000@www.ridgefielddance.org
SUMMARY:Wednesday Ballet IV
DESCRIPTION:
URL:https://www.ridgefielddance.org/class/wednesday-ballet-iv/2026-04-22/
LOCATION:Main Street Studios\, 440 Main Street (Route 35)\, Ridgefield\, CT\, 06877\, United States
CATEGORIES:Classes
END:VEVENT
BEGIN:VEVENT
DTSTART;TZID=America/New_York:20260422T163000
DTEND;TZID=America/New_York:20260422T173000
DTSTAMP:20260422T060634
CREATED:20250627T162702Z
LAST-MODIFIED:20250701T184308Z
UID:10004206-1776875400-1776879000@www.ridgefielddance.org
SUMMARY:Wednesday Contemporary V
DESCRIPTION:
URL:https://www.ridgefielddance.org/class/wednesday-contemporary-v/2026-04-22/
LOCATION:Main Street Studios\, 440 Main Street (Route 35)\, Ridgefield\, CT\, 06877\, United States
CATEGORIES:Classes
END:VEVENT
BEGIN:VEVENT
DTSTART;TZID=America/New_York:20260422T163000
DTEND;TZID=America/New_York:20260422T173000
DTSTAMP:20260422T060634
CREATED:20250629T212804Z
LAST-MODIFIED:20250701T183319Z
UID:10004142-1776875400-1776879000@www.ridgefielddance.org
SUMMARY:Wednesday Jazz II
DESCRIPTION:
URL:https://www.ridgefielddance.org/class/wednesday-jazz-ii-2/2026-04-22/
LOCATION:Main Street Studios\, 440 Main Street (Route 35)\, Ridgefield\, CT\, 06877\, United States
CATEGORIES:Classes
END:VEVENT
BEGIN:VEVENT
DTSTART;TZID=America/New_York:20260422T173000
DTEND;TZID=America/New_York:20260422T183000
DTSTAMP:20260422T060634
CREATED:20250627T162702Z
LAST-MODIFIED:20250702T165305Z
UID:10004889-1776879000-1776882600@www.ridgefielddance.org
SUMMARY:Wednesday Ballet II
DESCRIPTION:
URL:https://www.ridgefielddance.org/class/wednesday-ballet-ii/2026-04-22/
LOCATION:Main Street Studios\, 440 Main Street (Route 35)\, Ridgefield\, CT\, 06877\, United States
CATEGORIES:Classes
END:VEVENT
BEGIN:VEVENT
DTSTART;TZID=America/New_York:20260422T173000
DTEND;TZID=America/New_York:20260422T183000
DTSTAMP:20260422T060634
CREATED:20250629T212858Z
LAST-MODIFIED:20250701T183249Z
UID:10004126-1776879000-1776882600@www.ridgefielddance.org
SUMMARY:Wednesday Jazz IV
DESCRIPTION:
URL:https://www.ridgefielddance.org/class/wednesday-jazz-iv-2/2026-04-22/
LOCATION:Main Street Studios\, 440 Main Street (Route 35)\, Ridgefield\, CT\, 06877\, United States
CATEGORIES:Classes
END:VEVENT
BEGIN:VEVENT
DTSTART;TZID=America/New_York:20260422T183000
DTEND;TZID=America/New_York:20260422T193000
DTSTAMP:20260422T060634
CREATED:20250627T162702Z
LAST-MODIFIED:20250701T183427Z
UID:10004174-1776882600-1776886200@www.ridgefielddance.org
SUMMARY:Wednesday Contemporary VI
DESCRIPTION:
URL:https://www.ridgefielddance.org/class/wednesday-contemporary-vi/2026-04-22/
LOCATION:Main Street Studios\, 440 Main Street (Route 35)\, Ridgefield\, CT\, 06877\, United States
CATEGORIES:Classes
END:VEVENT
BEGIN:VEVENT
DTSTART;TZID=America/New_York:20260422T183000
DTEND;TZID=America/New_York:20260422T193000
DTSTAMP:20260422T060634
CREATED:20250629T213103Z
LAST-MODIFIED:20250819T143848Z
UID:10004094-1776882600-1776886200@www.ridgefielddance.org
SUMMARY:Wednesday Tap Beginner/Intermediate
DESCRIPTION:
URL:https://www.ridgefielddance.org/class/wednesday-tap-beginner/2026-04-22/
LOCATION:Main Street Studios\, 440 Main Street (Route 35)\, Ridgefield\, CT\, 06877\, United States
CATEGORIES:Classes
END:VEVENT
BEGIN:VEVENT
DTSTART;TZID=America/New_York:20260422T183000
DTEND;TZID=America/New_York:20260422T193000
DTSTAMP:20260422T060634
CREATED:20250629T213200Z
LAST-MODIFIED:20250701T183121Z
UID:10004078-1776882600-1776886200@www.ridgefielddance.org
SUMMARY:Wednesday Jazz III
DESCRIPTION:
URL:https://www.ridgefielddance.org/class/wednesday-jazz-iii-2/2026-04-22/
LOCATION:Main Street Studios\, 440 Main Street (Route 35)\, Ridgefield\, CT\, 06877\, United States
CATEGORIES:Classes
END:VEVENT
BEGIN:VEVENT
DTSTART;TZID=America/New_York:20260422T183000
DTEND;TZID=America/New_York:20260422T193000
DTSTAMP:20260422T060634
CREATED:20260121T152506Z
LAST-MODIFIED:20260121T152525Z
UID:10004110-1776882600-1776886200@www.ridgefielddance.org
SUMMARY:Wednesday Jazz V/VI
DESCRIPTION:
URL:https://www.ridgefielddance.org/class/wednesday-jazz-vi-2/2026-04-22/
LOCATION:Main Street Studios\, 440 Main Street (Route 35)\, Ridgefield\, CT\, 06877\, United States
CATEGORIES:Classes
END:VEVENT
BEGIN:VEVENT
DTSTART;TZID=America/New_York:20260422T193000
DTEND;TZID=America/New_York:20260422T203000
DTSTAMP:20260422T060634
CREATED:20250629T213356Z
LAST-MODIFIED:20250701T183021Z
UID:10004046-1776886200-1776889800@www.ridgefielddance.org
SUMMARY:Wednesday Tap Advanced
DESCRIPTION:
URL:https://www.ridgefielddance.org/class/wednesday-tap-advanced/2026-04-22/
LOCATION:Main Street Studios\, 440 Main Street (Route 35)\, Ridgefield\, CT\, 06877\, United States
CATEGORIES:Classes
END:VEVENT
BEGIN:VEVENT
DTSTART;TZID=America/New_York:20260422T193000
DTEND;TZID=America/New_York:20260422T203000
DTSTAMP:20260422T060634
CREATED:20250629T213446Z
LAST-MODIFIED:20250701T182941Z
UID:10004030-1776886200-1776889800@www.ridgefielddance.org
SUMMARY:Wednesday Musical Theater Teens
DESCRIPTION:
URL:https://www.ridgefielddance.org/class/wednesday-musical-theater-teens-2/2026-04-22/
LOCATION:Main Street Studios\, 440 Main Street (Route 35)\, Ridgefield\, CT\, 06877\, United States
CATEGORIES:Classes
END:VEVENT
END:VCALENDAR